BEGIN:VCALENDAR
VERSION:2.0
PRODID:-//Pro Regio Huttwil//NONSGML kigkonsult.se iCalcreator 2.16.12//
METHOD:PUBLISH
X-MS-OLK-FORCEINSPECTOROPEN:TRUE
BEGIN:VEVENT
UID:20260420T152455CEST-8141BzOuKc@Pro Regio Huttwil
DTSTAMP:20260420T132455Z
DESCRIPTION:
DTSTART:20180218T100000
DTEND:20180218T000000
LOCATION:Eishalle Campus Perspektiven
ORGANIZER:MAILTO:Pro Regio Huttwil <info@regio-huttwil.ch>
SUMMARY:Eishockey: 4 Länderturnier Damen Deutschland U16 vs Tschechien U16
END:VEVENT
END:VCALENDAR
