BEGIN:VCALENDAR
VERSION:2.0
PRODID:-//Pro Regio Huttwil//NONSGML kigkonsult.se iCalcreator 2.16.12//
METHOD:PUBLISH
X-MS-OLK-FORCEINSPECTOROPEN:TRUE
BEGIN:VEVENT
UID:20260420T151935CEST-9629XJ4Vvi@Pro Regio Huttwil
DTSTAMP:20260420T131935Z
DESCRIPTION:
DTSTART:20180216T200000
DTEND:20180216T000000
LOCATION:Eishalle Campus Perspektiven
ORGANIZER:MAILTO:Pro Regio Huttwil <info@regio-huttwil.ch>
SUMMARY:Eishockey: 4 Länderturnier Damen SIHF U16 vs Deutschland U16
END:VEVENT
END:VCALENDAR
