BEGIN:VCALENDAR
VERSION:2.0
PRODID:-//Pro Regio Huttwil//NONSGML kigkonsult.se iCalcreator 2.16.12//
METHOD:PUBLISH
X-MS-OLK-FORCEINSPECTOROPEN:TRUE
BEGIN:VEVENT
UID:20260420T152117CEST-97110UCc87@Pro Regio Huttwil
DTSTAMP:20260420T132117Z
DESCRIPTION:
DTSTART:20180102T000000
DTEND:20180102T000000
LOCATION:Eishalle Campus Perspektiven
ORGANIZER:MAILTO:Pro Regio Huttwil <info@regio-huttwil.ch>
SUMMARY:Eishockey: Sennen-Cup Bambini- Turnier mit 10 Mannschaften aus der 
 Schweiz
END:VEVENT
END:VCALENDAR
