BEGIN:VCALENDAR
VERSION:2.0
PRODID:-//Pro Regio Huttwil//NONSGML kigkonsult.se iCalcreator 2.16.12//
METHOD:PUBLISH
X-MS-OLK-FORCEINSPECTOROPEN:TRUE
BEGIN:VEVENT
UID:20260420T134050CEST-3859uZfs6M@Pro Regio Huttwil
DTSTAMP:20260420T114050Z
DESCRIPTION:
DTSTART:20180325T000000
DTEND:20180325T000000
LOCATION:Kirchgemeindehaus
ORGANIZER:MAILTO:Pro Regio Huttwil <info@regio-huttwil.ch>
SUMMARY:Jahreskonzert
END:VEVENT
END:VCALENDAR
