BEGIN:VCALENDAR
VERSION:2.0
PRODID:-//Pro Regio Huttwil//NONSGML kigkonsult.se iCalcreator 2.16.12//
METHOD:PUBLISH
X-MS-OLK-FORCEINSPECTOROPEN:TRUE
BEGIN:VEVENT
UID:20260420T151959CEST-3710AjpRvA@Pro Regio Huttwil
DTSTAMP:20260420T131959Z
DESCRIPTION:
DTSTART:20180218T000000
DTEND:20180218T000000
LOCATION:?
ORGANIZER:MAILTO:Pro Regio Huttwil <info@regio-huttwil.ch>
SUMMARY:Regio-Ski-Weekend für Teenager und junge Erwachsene
END:VEVENT
END:VCALENDAR
