BEGIN:VCALENDAR
VERSION:2.0
PRODID:-//Pro Regio Huttwil//NONSGML kigkonsult.se iCalcreator 2.16.12//
METHOD:PUBLISH
X-MS-OLK-FORCEINSPECTOROPEN:TRUE
BEGIN:VEVENT
UID:20260420T170141CEST-1335ss7F9T@Pro Regio Huttwil
DTSTAMP:20260420T150141Z
DESCRIPTION:Das Christmas Indoor Street Food Village findet vom 8. bis am 1
 0. Dezember 2017 zum ersten Mal in Huttwil statt und ist gleichzeitig der 
 offizielle Eröffnungsevent der neuen Eventhalle im Campus Perspektiven (eh
 emaliges Nationales Sportzentrum Huttwil).\n\nDas Christmas Indoor Street 
 Food Village ist ein Begegnungsort für Weihnachtsromantiker\, Familien und
  Besucher aus der ganzen Region.\n\nÜber 50 Food Trucks und Standbetreiber
  bieten ihre kulinarischen Leckerbissen aus der ganzen Welt in der weihnac
 htlich dekorierten Eventhalle an. Zudem gibt es verschiedene Bars\, von de
 r Chalet-Bier-Bar über die Coca Cola Bar bis hin zur Glühweinbar. Das Herz
  vom Village bildet der 8 Meter hohe und geschmückte Weihnachtsbaum im Zen
 trum der Halle\, wo sich auch die Bühne befindet.\n\nNeben viel Speis und 
 Trank soll die Vorfreude auf das Fest der Feste im Village auch mit vielen
  weiteren Attraktionen gefeiert werden. Für unsere kleinen Gäste und Famil
 ien bieten wir folgende Attraktionen:\n-Hüpfburg\n-Karrussel\n-Kerzenziehe
 n\n-Samichlaus\n-Grosser Weihnachtsbaum\n-Grosse Zaubershow am Sonntag\n\n
 Auch für die Unterhaltung unserer älteren Gäste ist gesorgt: Diverse Bands
  und DJs sorgen auf der Bühne beim grossen Weihnachtsbaum für beste musika
 lische Unterhaltung.\nAm Samstagabend geht es richtig rund: Unsere Bars si
 nd bis 02.00 Uhr geöffnet und DJs sorgen für beste musikalische Unterhaltu
 ng.\n\nDer Eintritt in’s Christmas Indoor Street Food Village ist für alle
  kostenlos und ohne Altersbeschränkung.\nEin kostenloser Shuttle-Bus kursi
 ert zwischen den folgenden Orten: Bahnhof – Ribimatte – Oberdorf – Industr
 ie – Campus Perspektiven.\n \nStandort:\nCampus Perspektiven\nSchwarzenbac
 h Dörfli 2\n4953 Huttwil\n \nÖffnungszeiten:\nFreitag\, 8. Dezember 2017 –
  12.00 Uhr bis 23.00 Uhr\nSamstag\, 9. Dezember 2017 – 12.00 Uhr bis 23.00
  Uhr (danach Party & Barbetrieb bis 02.00 Uhr)\nSonntag\, 10. Dezember 201
 7 – 12.00 Uhr bis 20.00 Uhr\n \nInformationen:\nKostenloser Eintritt – kei
 ne Tickets nötig\nWeitere Infos:http://www.streetfood-village.ch\n \n 
DTSTART:20171208T000000
DTEND:20171210T000000
LOCATION:Schwarzenbach Dörfli
ORGANIZER:MAILTO:Pro Regio Huttwil <info@regio-huttwil.ch>
SUMMARY:Christmas Indoor Street Food Village
END:VEVENT
END:VCALENDAR
