BEGIN:VCALENDAR
VERSION:2.0
PRODID:-//Pro Regio Huttwil//NONSGML kigkonsult.se iCalcreator 2.16.12//
METHOD:PUBLISH
X-MS-OLK-FORCEINSPECTOROPEN:TRUE
BEGIN:VEVENT
UID:20260420T152231CEST-7289GuEjAa@Pro Regio Huttwil
DTSTAMP:20260420T132231Z
DESCRIPTION:Sämtliche Infos finden Sie unter www.regio-huttwil.ch/de/Maerkt
 e-Huttwil/Weihnachtsmarkt
DTSTART:20171130T130000
DTEND:20171130T220000
LOCATION:Huttwil
ORGANIZER:MAILTO:Pro Regio Huttwil <info@regio-huttwil.ch>
SUMMARY:22. Huttwiler Wiehnachtsmärit
END:VEVENT
END:VCALENDAR
