BEGIN:VCALENDAR
VERSION:2.0
PRODID:-//Pro Regio Huttwil//NONSGML kigkonsult.se iCalcreator 2.16.12//
METHOD:PUBLISH
X-MS-OLK-FORCEINSPECTOROPEN:TRUE
BEGIN:VEVENT
UID:20260420T152117CEST-7076lVoG8B@Pro Regio Huttwil
DTSTAMP:20260420T132117Z
DESCRIPTION:Der Campus ist Teil des grössten Eishockey-Schülerturniers der 
 Schweiz\n\nMach mit und spiele Eishockey wie die Profis!\n\nLerne zusammen
  mit deinen Freunden Eishockey kennen. Stelle ein Team mit deinen Schulkam
 eraden (Primarschule) zusammen und melde dein Team an. Die Regeln werden a
 m Turnier so vereinfacht\, dass der Einstieg ins Eishockey leicht ist und 
 der Spass am Spiel im Vordergrund steht.\n\nWeiter Informationen: https://
 trophy.sihf.ch/de/
DTSTART:20171124T090000
DTEND:20171124T130000
LOCATION:Campus Perspektiven
ORGANIZER:MAILTO:Pro Regio Huttwil <info@regio-huttwil.ch>
SUMMARY:Postfinance Trophy
END:VEVENT
END:VCALENDAR
