BEGIN:VCALENDAR
VERSION:2.0
PRODID:-//Pro Regio Huttwil//NONSGML kigkonsult.se iCalcreator 2.16.12//
METHOD:PUBLISH
X-MS-OLK-FORCEINSPECTOROPEN:TRUE
BEGIN:VEVENT
UID:20260420T134637CEST-2149FZj1Us@Pro Regio Huttwil
DTSTAMP:20260420T114637Z
DESCRIPTION:Inspiriert von Django Reinhardts “Hot Club de France” spielen u
 nd leben sie den Geist des Jazz Manouche. Nach etlichen nächtlichen Jamses
 sions in der Altstadt von Bern war die Gründung des Hot Club de Berne die 
 logische Konsequenz. Neben dem Standardrepertoire verleihen ihnen die Eige
 nkompositionen eine persönliche Stimme.
DTSTART:20180406T201500
DTEND:20180406T230000
LOCATION:Alte Mühle
ORGANIZER:MAILTO:Pro Regio Huttwil <info@regio-huttwil.ch>
SUMMARY:Konzert mit Hot Club de Berne
END:VEVENT
END:VCALENDAR
