BEGIN:VCALENDAR
VERSION:2.0
PRODID:-//Pro Regio Huttwil//NONSGML kigkonsult.se iCalcreator 2.16.12//
METHOD:PUBLISH
X-MS-OLK-FORCEINSPECTOROPEN:TRUE
BEGIN:VEVENT
UID:20260420T152407CEST-52949ak51u@Pro Regio Huttwil
DTSTAMP:20260420T132407Z
DESCRIPTION:Walter Baumgartner (Mundharmonika\, Vocal und Swiss Blues Award
  Win- ner 2016)\, Elias Bernet aus St. Gallen (Piano\, Hammond\, Vocal) un
 d Joel Allison aus Manchester (Bass)\, u.a. auch zusammen in der Formation
  „Walt’s Blues Box“ unterwegs\, finden sich für diesen speziellen Abend im
  Kellerbistro im Trio wieder und spielen Songs aus ihrem Repertoire besteh
 end aus eigenen Kompositionen der letzten Alben und bekannten Blues Klassi
 kern und werden uns auf eine wunderbare musikalische Reise mitnehmen.
DTSTART:20180309T201500
DTEND:20180309T230000
LOCATION:Alte Mühle
ORGANIZER:MAILTO:Pro Regio Huttwil <info@regio-huttwil.ch>
SUMMARY:Konzert mit Walter Baumgartner Elias Bernet Trio
END:VEVENT
END:VCALENDAR
