BEGIN:VCALENDAR
VERSION:2.0
PRODID:-//Pro Regio Huttwil//NONSGML kigkonsult.se iCalcreator 2.16.12//
METHOD:PUBLISH
X-MS-OLK-FORCEINSPECTOROPEN:TRUE
BEGIN:VEVENT
UID:20260420T151959CEST-91872buP2U@Pro Regio Huttwil
DTSTAMP:20260420T131959Z
DESCRIPTION:Mit kubanischen Rhythmen bringen die energiegeladenen jungen Mu
 siker aus Bern die Beine jeden Alters zum Tanzen. Sie spielen alte bekannt
 e Klassiker der kubanischen Vieja Trova sowie aktuelle Hits im alten Kleid
 .
DTSTART:20180209T201500
DTEND:20180209T230000
LOCATION:Alte Mühle
ORGANIZER:MAILTO:Pro Regio Huttwil <info@regio-huttwil.ch>
SUMMARY:Konzert mit Buena Vista Capital Club
END:VEVENT
END:VCALENDAR
