BEGIN:VCALENDAR
VERSION:2.0
PRODID:-//Pro Regio Huttwil//NONSGML kigkonsult.se iCalcreator 2.16.12//
METHOD:PUBLISH
X-MS-OLK-FORCEINSPECTOROPEN:TRUE
BEGIN:VEVENT
UID:20260420T152215CEST-9113CHf5vp@Pro Regio Huttwil
DTSTAMP:20260420T132215Z
DESCRIPTION:Berner Singer-Songwriter
DTSTART:20180112T201500
DTEND:20180112T230000
LOCATION:Alte Mühle
ORGANIZER:MAILTO:Pro Regio Huttwil <info@regio-huttwil.ch>
SUMMARY:Konzert mit Bees and Trees
END:VEVENT
END:VCALENDAR
