BEGIN:VCALENDAR
VERSION:2.0
PRODID:-//Pro Regio Huttwil//NONSGML kigkonsult.se iCalcreator 2.16.12//
METHOD:PUBLISH
X-MS-OLK-FORCEINSPECTOROPEN:TRUE
BEGIN:VEVENT
UID:20260420T152119CEST-4599RdHF3E@Pro Regio Huttwil
DTSTAMP:20260420T132119Z
DESCRIPTION:Die Berner Band An Lár ist seit Jahren eine feste Grösse in d
 er Schweizer Irish und Celtic Folk Szene.
DTSTART:20171208T201500
DTEND:20171208T230000
LOCATION:Alte Mühle
ORGANIZER:MAILTO:Pro Regio Huttwil <info@regio-huttwil.ch>
SUMMARY:Konzert mit An Lár
END:VEVENT
END:VCALENDAR
