BEGIN:VCALENDAR
VERSION:2.0
PRODID:-//Pro Regio Huttwil//NONSGML kigkonsult.se iCalcreator 2.16.12//
METHOD:PUBLISH
X-MS-OLK-FORCEINSPECTOROPEN:TRUE
BEGIN:VEVENT
UID:20260420T151934CEST-2652EfZbSj@Pro Regio Huttwil
DTSTAMP:20260420T131934Z
DESCRIPTION:'On the Bus' spielen Musik mit Einflüssen aus Singer- Songwrite
 r\, Latin\, Blues und afrikanischer Musik.
DTSTART:20171124T201500
DTEND:20171124T230000
LOCATION:Alte Mühle
ORGANIZER:MAILTO:Pro Regio Huttwil <info@regio-huttwil.ch>
SUMMARY:Konzert mit On the Bus
END:VEVENT
END:VCALENDAR
