BEGIN:VCALENDAR
VERSION:2.0
PRODID:-//Pro Regio Huttwil//NONSGML kigkonsult.se iCalcreator 2.16.12//
METHOD:PUBLISH
X-MS-OLK-FORCEINSPECTOROPEN:TRUE
BEGIN:VEVENT
UID:20260420T151959CEST-6395ddUm52@Pro Regio Huttwil
DTSTAMP:20260420T131959Z
DESCRIPTION:Zum 10-jährigen Bestehen des Chors nehmen die Gospel Singers Ma
 diswil die Konzertbesucherinnen und -besucher mit auf eine Reise zu den Wu
 rzeln des Gospels - back to the roots.\nnMit einem abwechslungsreichen und
  fätzigen Programm wird der Funken garantiert auf das Publikum überspringe
 n.\nnMusikalische Leitung: Amanda Schweri
DTSTART:20171117T200000
DTEND:20171117T210000
LOCATION:Reformierte Kirche Huttwil
ORGANIZER:MAILTO:Pro Regio Huttwil <info@regio-huttwil.ch>
SUMMARY:Konzert Gospel Singers Madiswil
END:VEVENT
END:VCALENDAR
