BEGIN:VCALENDAR
VERSION:2.0
PRODID:-//Pro Regio Huttwil//NONSGML kigkonsult.se iCalcreator 2.16.12//
METHOD:PUBLISH
X-MS-OLK-FORCEINSPECTOROPEN:TRUE
BEGIN:VEVENT
UID:20260420T152500CEST-3011Hjwrzz@Pro Regio Huttwil
DTSTAMP:20260420T132500Z
DESCRIPTION:
DTSTART:20180220T000000
DTEND:20180220T000000
LOCATION:Kirchgemeindehaus
ORGANIZER:MAILTO:Pro Regio Huttwil <info@regio-huttwil.ch>
SUMMARY:Mittagstisch
END:VEVENT
END:VCALENDAR
