BEGIN:VCALENDAR
VERSION:2.0
PRODID:-//Pro Regio Huttwil//NONSGML kigkonsult.se iCalcreator 2.16.12//
METHOD:PUBLISH
X-MS-OLK-FORCEINSPECTOROPEN:TRUE
BEGIN:VEVENT
UID:20260420T151921CEST-4817Ppfwu9@Pro Regio Huttwil
DTSTAMP:20260420T131921Z
DESCRIPTION:*Weihnachtsspecial* mit Auftritt der Snowflakes und weiteren Ei
 skunstläuferinnen des Skating Clubs Huttwil\n\nJeden letzten Samstag im Mo
 nat heisst es: Magic on Ice!\n\nKurven Sie gemeinsam mit Freunden und Fami
 lie unter bezaubernden Lichteffekten und Musik über das Eis.\n\nDaten Okto
 ber bis Februar:\nSamstag\, 28. Oktober 2017\nSamstag\, 25. November 2017
 \n\nSamstag\, 23. Dezember 2017: *Weihnachtsspecial* mit Auftritt der Snow
 flakes und weiteren Eiskunstläuferinnen des Skating Clubs Huttwil\n\nSamst
 ag\, 30. Dezember 2017\nSamstag\, 27. Januar 2018\nSamstag\, 24. Februar 2
 018\n\nZeit:\n17.30 – 22.00 Uhr\nFreier Eislauf bereits ab 13.30 Uhr durch
 gehend bis Magic on Ice.\n\nRestaurant und Stadionbar:\nGeniessen Sie vor\
 , während oder nach dem Magic on Ice ein gemütliches Abendessen im Restaur
 ant des Campus Perspektiven und besuchen Sie die Stadionbar des 300er Club
 s Huttwil.\n\n\n 
DTSTART:20171223T173000
DTEND:20171223T220000
LOCATION: Schwarzenbach (Huttwil)
ORGANIZER:MAILTO:Pro Regio Huttwil <info@regio-huttwil.ch>
SUMMARY:Magic on Ice *Weihnachtsspecial*
END:VEVENT
END:VCALENDAR
