BEGIN:VCALENDAR
VERSION:2.0
PRODID:-//Pro Regio Huttwil//NONSGML kigkonsult.se iCalcreator 2.16.12//
METHOD:PUBLISH
X-MS-OLK-FORCEINSPECTOROPEN:TRUE
BEGIN:VEVENT
UID:20260420T152309CEST-0439eVznTp@Pro Regio Huttwil
DTSTAMP:20260420T132309Z
DESCRIPTION:An jedem ersten Sonntag im Monat findet der FaNami statt. Ein F
 amiliennachmittag für Gross und Klein mit viel Fun dabei. Am FaNami können
  Sie mit Ihren Lieben schlittschuhlaufen\, chnebble\, spielen und basteln 
 – und die beiden Letzteren erst noch unter fachkundiger Anleitung. Denn de
 r FaNami ist ein Angebot in Zusammenarbeit mit dem Bastelladen creatif Hut
 twil und der Ludothek Bumerang Huttwil.\n\nDaten:\n05.11.17: Weihnachtsges
 chenke basteln mit dem Bastelladen creatif Huttwil\n03.12.17: Vielseitiges
  Spielangebot der Ludothek Bumerang\n07.01.18: Vielseitiges Spielangebot d
 er Ludothek Bumerang\n04.02.18: Vielseitiges Spielangebot der Ludothek Bum
 erang\n04.03.18: Frühlingsbasteln mit dem Bastelladen creatif Huttwil\n\nW
 ürfel\, Brett-\, und Kartenspiele des Campus Perspektiven hat es immer vor
  Ort. Ebenfalls gibt es im Restaurant eine grosse Spielecke für die Kleins
 ten.\n\nZeit:\n12.00 Uhr Family Mittagsmenü\n13.00 – 16.30: Schlittschuhla
 ufen\, Spielen oder Basteln\n\nEintrittspreise Eisbahn:\nKinder unter 6 Ja
 hre Gratis\nKinder 6 bis 16 Jahre CHF 4.-\nLehrlinge/ AHV/ IV (gegen Auswe
 is) CHF 6.-\nErwachsene CHF 8.-\nFamilie 3. Kind Gratis\n\nWeiteres:\n- Sc
 hlittschuhe können vor Ort gemietet werden.\n- Kosten Bastelmaterial je na
 ch Gebrauch.
DTSTART:20180204T120000
DTEND:20180204T163000
LOCATION:Schwarzenbach (Huttwil)
ORGANIZER:MAILTO:Pro Regio Huttwil <info@regio-huttwil.ch>
SUMMARY:FaNami *Weihnachtsgeschenke basteln mit Bastelladen creatif Huttwil
 *
END:VEVENT
END:VCALENDAR
