BEGIN:VCALENDAR
VERSION:2.0
PRODID:-//Pro Regio Huttwil//NONSGML kigkonsult.se iCalcreator 2.16.12//
METHOD:PUBLISH
X-MS-OLK-FORCEINSPECTOROPEN:TRUE
BEGIN:VEVENT
UID:20260420T152417CEST-79840IpJvs@Pro Regio Huttwil
DTSTAMP:20260420T132417Z
DESCRIPTION:An jedem ersten Sonntag im Monat findet der FaNami statt. Ein F
 amiliennachmittag für Gross und Klein mit viel Fun dabei. Am FaNami können
  Sie mit Ihren Lieben schlittschuhlaufen\, chnebble\, spielen und basteln 
 – und die beiden Letzteren erst noch unter fachkundiger Anleitung. Denn de
 r FaNami ist ein Angebot in Zusammenarbeit mit dem Bastelladen creatif Hut
 twil und der Ludothek Bumerang Huttwil.\n\nWeihnachtsgeschenke basteln mit
  dem Bastelladen creatif Huttwil\n03.12.17: Vielseitiges Spielangebot der 
 Ludothek Bumerang\n07.01.18: Vielseitiges Spielangebot der Ludothek Bumera
 ng\n04.02.18: Vielseitiges Spielangebot der Ludothek Bumerang\n04.03.18: F
 rühlingsbasteln mit dem Bastelladen creatif Huttwil\n\nWürfel\, Brett-\, u
 nd Kartenspiele des Campus Perspektiven hat es immer vor Ort. Ebenfalls gi
 bt es im Restaurant eine grosse Spielecke für die Kleinsten.\n12.00 Uhr Fa
 mily Mittagsmenü\n13.00 – 16.30: Schlittschuhlaufen\, Spielen oder Basteln
 \n\nEintrittspreise Eisbahn:\nKinder unter 6 Jahre Gratis\nKinder 6 bis 16
  Jahre CHF 4.-\nLehrlinge/ AHV/ IV (gegen Ausweis) CHF 6.-\nErwachsene CHF
  8.-\nFamilie 3. Kind Gratis\n\nWeiteres:\n- Schlittschuhe können vor Ort 
 gemietet werden.\n- Kosten Bastelmaterial je nach Gebrauch.\n 
DTSTART:20171203T120000
DTEND:20171203T163000
LOCATION:Schwarzenbach (Huttwil)
ORGANIZER:MAILTO:Pro Regio Huttwil <info@regio-huttwil.ch>
SUMMARY:FaNami *Mit Spielangebot der Ludothek Bumerang Huttwil*
END:VEVENT
END:VCALENDAR
