BEGIN:VCALENDAR
VERSION:2.0
PRODID:-//Pro Regio Huttwil//NONSGML kigkonsult.se iCalcreator 2.16.12//
METHOD:PUBLISH
X-MS-OLK-FORCEINSPECTOROPEN:TRUE
BEGIN:VEVENT
UID:20260420T152232CEST-5125NTEvoG@Pro Regio Huttwil
DTSTAMP:20260420T132232Z
DESCRIPTION:Das letzte Magic on Ice für diese Saison!\n\nKurven Sie gemeins
 am mit Freunden und Familie unter bezaubernden Lichteffekten und Musik übe
 r das Eis.\n\nZeit:\n17.30 - 22.00 Uhr\nFreier Eislauf bereits ab 13.30 Uh
 r durchgehend bis Magic on Ice.\n\nRestaurant und Stadionbar:\nGeniessen S
 ie vor\, während oder nach dem Magic on Ice ein gemütliches Abendessen im 
 Restaurant des Campus Perspektiven und besuchen Sie die Stadionbar des 300
 er Clubs Huttwil.\n\nEintrittspreis:\nKinder unter 6 Jahre Gratis\nKinder 
 6 bis 16 Jahre CHF 4.-\nLehrlinge/ AHV/ IV (gegen Ausweis) CHF 6.-\nErwach
 sene CHF 8.-\nFamilie 3. Kind Gratis
DTSTART:20180127T173000
DTEND:20180127T220000
LOCATION:Schwarzenbach (Huttwil)
ORGANIZER:MAILTO:Pro Regio Huttwil <info@regio-huttwil.ch>
SUMMARY:Magic on Ice
END:VEVENT
END:VCALENDAR
