BEGIN:VCALENDAR
VERSION:2.0
PRODID:-//Pro Regio Huttwil//NONSGML kigkonsult.se iCalcreator 2.16.12//
METHOD:PUBLISH
X-MS-OLK-FORCEINSPECTOROPEN:TRUE
BEGIN:VEVENT
UID:20260420T152419CEST-6247RxFEVn@Pro Regio Huttwil
DTSTAMP:20260420T132419Z
DESCRIPTION:Jeden letzten Samstag im Monat heisst es: Magic on Ice!\n\nKurv
 en Sie gemeinsam mit Freunden und Familie unter bezaubernden Lichteffekten
  und Musik über das Eis.\n\nSamstag\, 23. Dezember 2017: *Weihnachtsspecia
 l* mit Auftritt der Snowflakes und weiteren Eiskunstläuferinnen des Skatin
 g Clubs Huttwil\n\nRestaurant und Stadionbar:\nGeniessen Sie vor\, während
  oder nach dem Magic on Ice ein gemütliches Abendessen im Restaurant des C
 ampus Perspektiven und besuchen Sie die Stadionbar des 300er Clubs Huttwil
 .\n\nEintrittspreis:\nKinder unter 6 Jahre Gratis\nKinder 6 bis 16 Jahre C
 HF 4.-\nLehrlinge/ AHV/ IV (gegen Ausweis) CHF 6.-\nErwachsene CHF 8.-\nFa
 milie 3. Kind Gratis
DTSTART:20171230T173000
DTEND:20171230T220000
LOCATION:Schwarzenbach (Huttwil)
ORGANIZER:MAILTO:Pro Regio Huttwil <info@regio-huttwil.ch>
SUMMARY:Magic on Ice
END:VEVENT
END:VCALENDAR
