BEGIN:VCALENDAR
VERSION:2.0
PRODID:-//Pro Regio Huttwil//NONSGML kigkonsult.se iCalcreator 2.16.12//
METHOD:PUBLISH
X-MS-OLK-FORCEINSPECTOROPEN:TRUE
BEGIN:VEVENT
UID:20260420T152415CEST-9606aDMuIV@Pro Regio Huttwil
DTSTAMP:20260420T132415Z
DESCRIPTION:jeweils am Mittwoch und Samstag\nGemüse\nFrüchte\nKäse\nBlumen
 \nGrill\nund mehr...\n\n\n 
DTSTART:20170923T083000
DTEND:20170923T110000
LOCATION:Huttwil
ORGANIZER:MAILTO:Pro Regio Huttwil <info@regio-huttwil.ch>
SUMMARY:Frischmarkt in der permanente Begegnungszone
END:VEVENT
END:VCALENDAR
