BEGIN:VCALENDAR
VERSION:2.0
PRODID:-//Pro Regio Huttwil//NONSGML kigkonsult.se iCalcreator 2.16.12//
METHOD:PUBLISH
X-MS-OLK-FORCEINSPECTOROPEN:TRUE
BEGIN:VEVENT
UID:20260420T152001CEST-0762JDgUZK@Pro Regio Huttwil
DTSTAMP:20260420T132001Z
DESCRIPTION:jeweils am Mittwoch und Samstag\nGemüse\nFrüchte\nKäse\nBlumen
 \nFisch\nund mehr...\n\n 
DTSTART:20170927T083000
DTEND:20170927T110000
LOCATION:Huttwil
ORGANIZER:MAILTO:Pro Regio Huttwil <info@regio-huttwil.ch>
SUMMARY:Frischmarkt in der permanente Begegnungszone
END:VEVENT
END:VCALENDAR
