BEGIN:VCALENDAR
VERSION:2.0
PRODID:-//Pro Regio Huttwil//NONSGML kigkonsult.se iCalcreator 2.16.12//
METHOD:PUBLISH
X-MS-OLK-FORCEINSPECTOROPEN:TRUE
BEGIN:VEVENT
UID:20260420T151934CEST-552047X8NK@Pro Regio Huttwil
DTSTAMP:20260420T131934Z
DESCRIPTION:Herzlich willkommen zur neuen Herbstsaison!\n\nLiebe Stammkunde
 n\n\nDer Herbst steht vor der Tür.\nAn der Modenschau in unserem Geschäft 
 am Donnerstag\, 14. September 2017\, um 20.00 Uhr zeigen wir Ihnen trendig
 e Outfits\, einzigartige Kombinationen\, sportive und bequeme Mode für 'SI
 E und IHN'.\nLassen Sie sich für einen Moment in die Modewelt entführen!\n
 \nGratisparkplätze sind vorhanden. Reservationen nehmen wir gerne entgegen
  unter Tel. 062 962 22 40.\n\nWir freuen uns auf Ihren Besuch!\n\nIhr Nied
 erhauser Mode Team
DTSTART:20170914T200000
DTEND:20170914T220000
LOCATION:Huttwil
ORGANIZER:MAILTO:Pro Regio Huttwil <info@regio-huttwil.ch>
SUMMARY:Modeschau Niederhauser Mode AG
END:VEVENT
END:VCALENDAR
