BEGIN:VCALENDAR
VERSION:2.0
PRODID:-//Pro Regio Huttwil//NONSGML kigkonsult.se iCalcreator 2.16.12//
METHOD:PUBLISH
X-MS-OLK-FORCEINSPECTOROPEN:TRUE
BEGIN:VEVENT
UID:20260420T152321CEST-6776VveP1k@Pro Regio Huttwil
DTSTAMP:20260420T132321Z
DESCRIPTION:Plausch-Hornussen\nHornusserplatz Huttwil (Kammernmoos)\n\nAlle
  Teilnehmer erhalten einen schönen Preis!\n(Preisverteilung: Freitag 01.09
 .17 um 19.00 Uhr in der Hornusserhütte Huttwil)\n\nUnsere Festwirtschaft l
 ädt zum Verweilen ein!\n\nDie Hornusser Huttwil freuen sich auf euren Besu
 ch!
DTSTART:20170820T100000
DTEND:20170820T160000
LOCATION:Huttwil
ORGANIZER:MAILTO:Pro Regio Huttwil <info@regio-huttwil.ch>
SUMMARY:Plausch-Hornussen
END:VEVENT
END:VCALENDAR
