BEGIN:VCALENDAR
VERSION:2.0
PRODID:-//Pro Regio Huttwil//NONSGML kigkonsult.se iCalcreator 2.16.12//
METHOD:PUBLISH
X-MS-OLK-FORCEINSPECTOROPEN:TRUE
BEGIN:VEVENT
UID:20260420T152405CEST-0523TduPCR@Pro Regio Huttwil
DTSTAMP:20260420T132405Z
DESCRIPTION:Konzerte der Kadettenmusik Langenthal und Huttwil und anschlies
 send The Bebops
DTSTART:20170901T193000
DTEND:20170901T235500
LOCATION:Huttwil
ORGANIZER:MAILTO:Pro Regio Huttwil <info@regio-huttwil.ch>
SUMMARY:Unterhaltungsabend mit Kadettenmusik
END:VEVENT
END:VCALENDAR
