BEGIN:VCALENDAR
VERSION:2.0
PRODID:-//Pro Regio Huttwil//NONSGML kigkonsult.se iCalcreator 2.16.12//
METHOD:PUBLISH
X-MS-OLK-FORCEINSPECTOROPEN:TRUE
BEGIN:VEVENT
UID:20260420T152408CEST-42326bpof2@Pro Regio Huttwil
DTSTAMP:20260420T132408Z
DESCRIPTION:Schweizerische Kadettentage\n\nMehr Infos finden Sie unter www.
 kadettentage.ch
DTSTART:20170903T113000
DTEND:20170903T170000
LOCATION:Huttwil
ORGANIZER:MAILTO:Pro Regio Huttwil <info@regio-huttwil.ch>
SUMMARY:Schweizerische Kadettentage
END:VEVENT
END:VCALENDAR
