BEGIN:VCALENDAR
VERSION:2.0
PRODID:-//Pro Regio Huttwil//NONSGML kigkonsult.se iCalcreator 2.16.12//
METHOD:PUBLISH
X-MS-OLK-FORCEINSPECTOROPEN:TRUE
BEGIN:VEVENT
UID:20260420T152236CEST-9831fjBB6J@Pro Regio Huttwil
DTSTAMP:20260420T132236Z
DESCRIPTION:Schweizerische Kadettentage\n\nWeitere Infos finden Sie unter w
 ww.kadettentage.ch
DTSTART:20170902T113000
DTEND:20170902T235500
LOCATION:Huttwil
ORGANIZER:MAILTO:Pro Regio Huttwil <info@regio-huttwil.ch>
SUMMARY:Schweizerische Kadettentage
END:VEVENT
END:VCALENDAR
