BEGIN:VCALENDAR
VERSION:2.0
PRODID:-//Pro Regio Huttwil//NONSGML kigkonsult.se iCalcreator 2.16.12//
METHOD:PUBLISH
X-MS-OLK-FORCEINSPECTOROPEN:TRUE
BEGIN:VEVENT
UID:20260420T152420CEST-509211mW9t@Pro Regio Huttwil
DTSTAMP:20260420T132420Z
DESCRIPTION:Schulevent mit viel Musik\nSchülerbands Hofmatt\nKonzert\nFood 
 & Drinks\n
DTSTART:20170921T193000
DTEND:20170921T193000
LOCATION:Huttwil
ORGANIZER:MAILTO:Pro Regio Huttwil <info@regio-huttwil.ch>
SUMMARY:Hofmatt rockt! in der permanente Begegnungszone
END:VEVENT
END:VCALENDAR
