BEGIN:VCALENDAR
VERSION:2.0
PRODID:-//Pro Regio Huttwil//NONSGML kigkonsult.se iCalcreator 2.16.12//
METHOD:PUBLISH
X-MS-OLK-FORCEINSPECTOROPEN:TRUE
BEGIN:VEVENT
UID:20260420T152454CEST-89239I9TH9@Pro Regio Huttwil
DTSTAMP:20260420T132454Z
DESCRIPTION:Gottesdienst Thema Begegnung\nanschl. Apéro und gemütliches Bei
 samensein
DTSTART:20170723T100000
DTEND:20170723T000000
LOCATION:Huttwil
ORGANIZER:MAILTO:Pro Regio Huttwil <info@regio-huttwil.ch>
SUMMARY:Ökumenischer Gottesdienst in der permanente Begegnungszone
END:VEVENT
END:VCALENDAR
