BEGIN:VCALENDAR
VERSION:2.0
PRODID:-//Pro Regio Huttwil//NONSGML kigkonsult.se iCalcreator 2.16.12//
METHOD:PUBLISH
X-MS-OLK-FORCEINSPECTOROPEN:TRUE
BEGIN:VEVENT
UID:20260420T152125CEST-12265umAPJ@Pro Regio Huttwil
DTSTAMP:20260420T132125Z
DESCRIPTION:Brunch in der permanenten Begegnungszone\nmit musikalischer Unt
 erhaltung\n16.07.2017 Schwyzerörgeli Duo Odermatt-Lehmann\n13.08.2017 Quat
 trophoni's
DTSTART:20170813T090000
DTEND:20170813T123000
LOCATION:Huttwil
ORGANIZER:MAILTO:Pro Regio Huttwil <info@regio-huttwil.ch>
SUMMARY:Brunch in der permanente Begegnungszone
END:VEVENT
END:VCALENDAR
