BEGIN:VCALENDAR
VERSION:2.0
PRODID:-//Pro Regio Huttwil//NONSGML kigkonsult.se iCalcreator 2.16.12//
METHOD:PUBLISH
X-MS-OLK-FORCEINSPECTOROPEN:TRUE
BEGIN:VEVENT
UID:20260420T152000CEST-1886gZaUzu@Pro Regio Huttwil
DTSTAMP:20260420T132000Z
DESCRIPTION:Gartenwirtschaft\nLeseecke\nSpiele\nCuboro Murmelbahn\nGlacerie
 \nStehtisch mit Hochstuhlunikaten\nund mehr...\n 
DTSTART:20170715T083000
DTEND:20171001T230000
LOCATION:Huttwil
ORGANIZER:MAILTO:Pro Regio Huttwil <info@regio-huttwil.ch>
SUMMARY:Gartenwirtschaft in der permanente Begegnungszone
END:VEVENT
END:VCALENDAR
