BEGIN:VCALENDAR
VERSION:2.0
PRODID:-//Pro Regio Huttwil//NONSGML kigkonsult.se iCalcreator 2.16.12//
METHOD:PUBLISH
X-MS-OLK-FORCEINSPECTOROPEN:TRUE
BEGIN:VEVENT
UID:20260420T152119CEST-7665kif0jL@Pro Regio Huttwil
DTSTAMP:20260420T132119Z
DESCRIPTION:Gratis Glace für alle Besucher\nAnsprache Gemeinderat Alexander
  Grädel\nMusik Lara Sommer & Band\nFrischmarkt\nStofftaschen bemalen\nGril
 l\n 
DTSTART:20170715T083000
DTEND:20170715T123000
LOCATION:Huttwil
ORGANIZER:MAILTO:Pro Regio Huttwil <info@regio-huttwil.ch>
SUMMARY:Eröffnungsfest permanente Begegnungszone
END:VEVENT
END:VCALENDAR
