BEGIN:VCALENDAR
VERSION:2.0
PRODID:-//Pro Regio Huttwil//NONSGML kigkonsult.se iCalcreator 2.16.12//
METHOD:PUBLISH
X-MS-OLK-FORCEINSPECTOROPEN:TRUE
BEGIN:VEVENT
UID:20260420T151921CEST-8126jULZ5T@Pro Regio Huttwil
DTSTAMP:20260420T131921Z
DESCRIPTION:über 90 Marktfahrer und zahlreiche Attraktionen
DTSTART:20170712T090000
DTEND:20170712T170000
LOCATION:Huttwil
ORGANIZER:MAILTO:Pro Regio Huttwil <info@regio-huttwil.ch>
SUMMARY:Summermärit
END:VEVENT
END:VCALENDAR
