BEGIN:VCALENDAR
VERSION:2.0
PRODID:-//Pro Regio Huttwil//NONSGML kigkonsult.se iCalcreator 2.16.12//
METHOD:PUBLISH
X-MS-OLK-FORCEINSPECTOROPEN:TRUE
BEGIN:VEVENT
UID:20260420T152118CEST-0147NpKWCr@Pro Regio Huttwil
DTSTAMP:20260420T132118Z
DESCRIPTION:Öffentliches Feuerlaufseminar\nam Samstag\, 19. August 2017\, 1
 3.30 - 22.00 Uhr\nin Schwarzenbach Huttwil\n\nMehr Infos unter: www.deinbe
 stertag.ch
DTSTART:20170819T133000
DTEND:20170819T220000
LOCATION:Schwarzenbach
ORGANIZER:MAILTO:Pro Regio Huttwil <info@regio-huttwil.ch>
SUMMARY:Öffentliches Feuerlaufseminar
END:VEVENT
END:VCALENDAR
