BEGIN:VCALENDAR
VERSION:2.0
PRODID:-//Pro Regio Huttwil//NONSGML kigkonsult.se iCalcreator 2.16.12//
METHOD:PUBLISH
X-MS-OLK-FORCEINSPECTOROPEN:TRUE
BEGIN:VEVENT
UID:20260420T152308CEST-1643sjnl33@Pro Regio Huttwil
DTSTAMP:20260420T132308Z
DESCRIPTION:Sommer Spaghettiplausch\nbeim Brunnenplatz in Huttwil\nbei schl
 echtem Wetter in der alten Turnhalle ab 18.00 Uhr\n\nSpaghetti mit drei fe
 inen Saucen à discrétion\n\ndazu Unterhaltung mit 'Gleis 2 - die angeri Un
 gerhaltig'\n\nFreundlich laden ein\nStadtmusik Huttwil\n\n 
DTSTART:20170819T180000
DTEND:20170819T000000
LOCATION:Huttwil
ORGANIZER:MAILTO:Pro Regio Huttwil <info@regio-huttwil.ch>
SUMMARY:Sommer Spaghettiplausch
END:VEVENT
END:VCALENDAR
