BEGIN:VCALENDAR
VERSION:2.0
PRODID:-//Pro Regio Huttwil//NONSGML kigkonsult.se iCalcreator 2.16.12//
METHOD:PUBLISH
X-MS-OLK-FORCEINSPECTOROPEN:TRUE
BEGIN:VEVENT
UID:20260420T152126CEST-8676mAiuGU@Pro Regio Huttwil
DTSTAMP:20260420T132126Z
DESCRIPTION:
DTSTART:20170323T200000
DTEND:20170323T223000
LOCATION:Huttwil
ORGANIZER:MAILTO:Pro Regio Huttwil <info@regio-huttwil.ch>
SUMMARY:Modeschau Niederhauser Mode AG
END:VEVENT
END:VCALENDAR
