BEGIN:VCALENDAR
VERSION:2.0
PRODID:-//Pro Regio Huttwil//NONSGML kigkonsult.se iCalcreator 2.16.12//
METHOD:PUBLISH
X-MS-OLK-FORCEINSPECTOROPEN:TRUE
BEGIN:VEVENT
UID:20260420T152234CEST-3132snxixo@Pro Regio Huttwil
DTSTAMP:20260420T132234Z
DESCRIPTION:Herzlich willkommen zum gemeinsamen Event!\nLernen Sie uns kenn
 en - schnuppern Sie durch Gewächshäuser\, besuchen Sie Workshops und die M
 odeschau\, gehen Sie auf Tuchfühlung\, verwöhnen Sie Ihren Gaumen - und zu
  allerletzt:\nStossen Sie am Samstagabend beim Blues-Konzert mit uns an!\n
 Wir freuen uns auf Sie!\nLadenöffnungszeiten: 9 - 18 Uhr\nEvents: 10 Uhr /
  14 Uhr / 16 Uhr\nBlues-Konzert: 20 Uhr im Kleinen Prinz (Bitte anmelden)
 \n\nBoutique Naturel www.boutique-naturel.ch\n\nOECHSLI Wohnen + Schlafen 
 www.oechsli-huttwil.ch\n\nBlumeninsel Ingold Huttwil www.blumeninsel.ch\n
 \nHotel kleiner Prinz www.hotel-prinz.ch\n 
DTSTART:20170318T090000
DTEND:20170318T180000
LOCATION:Huttwil
ORGANIZER:MAILTO:Pro Regio Huttwil <info@regio-huttwil.ch>
SUMMARY:Frühling lässt sein blaues Band wieder flattern durch Huttwils Lüft
 e
END:VEVENT
END:VCALENDAR
