BEGIN:VCALENDAR
VERSION:2.0
PRODID:-//Pro Regio Huttwil//NONSGML kigkonsult.se iCalcreator 2.16.12//
METHOD:PUBLISH
X-MS-OLK-FORCEINSPECTOROPEN:TRUE
BEGIN:VEVENT
UID:20260420T152237CEST-9211xg4T6u@Pro Regio Huttwil
DTSTAMP:20260420T132237Z
DESCRIPTION:Lama-Erlebnis inmitten der wunderschönen Hügellandschaft.\n\nIn
 fos und Anmeldung zu den öffentlichen Lamawanderung unter:\n\nTel. 062 965
  00 54 oder Mail info@lamahof-tschaeppel.ch
DTSTART:20170318T140000
DTEND:20170318T160000
LOCATION:Huttwil
ORGANIZER:MAILTO:Pro Regio Huttwil <info@regio-huttwil.ch>
SUMMARY:Lamawanderung
END:VEVENT
END:VCALENDAR
