BEGIN:VCALENDAR
VERSION:2.0
PRODID:-//Pro Regio Huttwil//NONSGML kigkonsult.se iCalcreator 2.16.12//
METHOD:PUBLISH
X-MS-OLK-FORCEINSPECTOROPEN:TRUE
BEGIN:VEVENT
UID:20260420T152000CEST-7432AFcStS@Pro Regio Huttwil
DTSTAMP:20260420T132000Z
DESCRIPTION:Lama-Erlebins inmitten der wunderschönen Hügellandschaft.\n\nIn
 fos und Anmeldungen für die öffentliche Lamawanderung.\n\ninfo@lamahof-tsc
 haeppel.ch oder Tel. 062 962 00 54
DTSTART:20170204T140000
DTEND:20170204T160000
LOCATION:Huttwil
ORGANIZER:MAILTO:Pro Regio Huttwil <info@regio-huttwil.ch>
SUMMARY:Lamawanderung
END:VEVENT
END:VCALENDAR
