BEGIN:VCALENDAR
VERSION:2.0
PRODID:-//Pro Regio Huttwil//NONSGML kigkonsult.se iCalcreator 2.16.12//
METHOD:PUBLISH
X-MS-OLK-FORCEINSPECTOROPEN:TRUE
BEGIN:VEVENT
UID:20260420T151934CEST-8256m4mdVC@Pro Regio Huttwil
DTSTAMP:20260420T131934Z
DESCRIPTION:Filmabend in der Alten Mühle Huttwil\nDER SCHAKAL\n\nDauer: 137
  Min. ab 16 Jahren\nEintritt: CHF 12.00\n\nPlatzreservationen sind möglich
 .\n\nMail: filmspur@kellerbistro-huttwil.ch oder Tel. 062 962 05 13\n 
DTSTART:20170106T200000
DTEND:20170106T223000
LOCATION:Kellerbistro Alte Mühle
ORGANIZER:MAILTO:Pro Regio Huttwil <info@regio-huttwil.ch>
SUMMARY:Filmspur Alte Mühle Huttwil
END:VEVENT
END:VCALENDAR
