BEGIN:VCALENDAR
VERSION:2.0
PRODID:-//Pro Regio Huttwil//NONSGML kigkonsult.se iCalcreator 2.16.12//
METHOD:PUBLISH
X-MS-OLK-FORCEINSPECTOROPEN:TRUE
BEGIN:VEVENT
UID:20260420T152000CEST-9968ur1k0E@Pro Regio Huttwil
DTSTAMP:20260420T132000Z
DESCRIPTION:
DTSTART:20171224T163000
DTEND:20171224T000000
LOCATION:Kirche
ORGANIZER:MAILTO:Pro Regio Huttwil <info@regio-huttwil.ch>
SUMMARY:Familienweihnachtsfeier
END:VEVENT
END:VCALENDAR
