BEGIN:VCALENDAR
VERSION:2.0
PRODID:-//Pro Regio Huttwil//NONSGML kigkonsult.se iCalcreator 2.16.12//
METHOD:PUBLISH
X-MS-OLK-FORCEINSPECTOROPEN:TRUE
BEGIN:VEVENT
UID:20260420T152421CEST-4090azURmN@Pro Regio Huttwil
DTSTAMP:20260420T132421Z
DESCRIPTION:
DTSTART:20171206T200000
DTEND:20171206T000000
LOCATION:Tagungsraum
ORGANIZER:MAILTO:Pro Regio Huttwil <info@regio-huttwil.ch>
SUMMARY:Frauenadventsabend
END:VEVENT
END:VCALENDAR
