BEGIN:VCALENDAR
VERSION:2.0
PRODID:-//Pro Regio Huttwil//NONSGML kigkonsult.se iCalcreator 2.16.12//
METHOD:PUBLISH
X-MS-OLK-FORCEINSPECTOROPEN:TRUE
BEGIN:VEVENT
UID:20260420T152233CEST-4073v0UubF@Pro Regio Huttwil
DTSTAMP:20260420T132233Z
DESCRIPTION:
DTSTART:20171119T000000
DTEND:20171119T000000
LOCATION:Kirchgemeindehaus
ORGANIZER:MAILTO:Pro Regio Huttwil <info@regio-huttwil.ch>
SUMMARY:Lotto Schützengesellschaft
END:VEVENT
END:VCALENDAR
