BEGIN:VCALENDAR
VERSION:2.0
PRODID:-//Pro Regio Huttwil//NONSGML kigkonsult.se iCalcreator 2.16.12//
METHOD:PUBLISH
X-MS-OLK-FORCEINSPECTOROPEN:TRUE
BEGIN:VEVENT
UID:20260420T152307CEST-1348GeU5ku@Pro Regio Huttwil
DTSTAMP:20260420T132307Z
DESCRIPTION:Benefiz - Jeder retter einen Afrikaner\n\nEine Theatersatire zu
 m Helfersyndrom und wozu wir aus (falscher) Betroffenheit sonst noch fähig
  sind.\n\nBar und Äthiopisches Buffet im Anschluss\n\nTickets erhältlich u
 nter: www.tipo.ch
DTSTART:20161008T180000
DTEND:20161008T000000
LOCATION:Huttwil
ORGANIZER:MAILTO:Pro Regio Huttwil <info@regio-huttwil.ch>
SUMMARY:Benefiz - Jeder rettet einen Afrikaner
END:VEVENT
END:VCALENDAR
