BEGIN:VCALENDAR
VERSION:2.0
PRODID:-//Pro Regio Huttwil//NONSGML kigkonsult.se iCalcreator 2.16.12//
METHOD:PUBLISH
X-MS-OLK-FORCEINSPECTOROPEN:TRUE
BEGIN:VEVENT
UID:20260420T152310CEST-8104R40npX@Pro Regio Huttwil
DTSTAMP:20260420T132310Z
DESCRIPTION:Der Circus Nock geht in dieser Saison bereits zum 156. Mal auf 
 Tournée.\nwww.nock.ch
DTSTART:20161018T200000
DTEND:20161018T000000
LOCATION:Huttwil
ORGANIZER:MAILTO:Pro Regio Huttwil <info@regio-huttwil.ch>
SUMMARY:Circus Nock
END:VEVENT
END:VCALENDAR
