BEGIN:VCALENDAR
VERSION:2.0
PRODID:-//Pro Regio Huttwil//NONSGML kigkonsult.se iCalcreator 2.16.12//
METHOD:PUBLISH
X-MS-OLK-FORCEINSPECTOROPEN:TRUE
BEGIN:VEVENT
UID:20260422T141303CEST-06213kZSm4@Pro Regio Huttwil
DTSTAMP:20260422T121303Z
DESCRIPTION:Herzliche Einladung zur Herbst-Modenschau\n\nBei Fragen kontakt
 ieren Sie uns bitte unter Tel. 062 962 22 40
DTSTART:20160915T200000
DTEND:20160915T000000
LOCATION:Huttwil
ORGANIZER:MAILTO:Pro Regio Huttwil <info@regio-huttwil.ch>
SUMMARY:Herbst-Modenschau
END:VEVENT
END:VCALENDAR
