BEGIN:VCALENDAR
VERSION:2.0
PRODID:-//Pro Regio Huttwil//NONSGML kigkonsult.se iCalcreator 2.16.12//
METHOD:PUBLISH
X-MS-OLK-FORCEINSPECTOROPEN:TRUE
BEGIN:VEVENT
UID:20260422T121429CEST-3013LH15Na@Pro Regio Huttwil
DTSTAMP:20260422T101429Z
DESCRIPTION:Geniessen Sie das einzigartige Lama-Erlebnis (2-stündige Wander
 ung) inmitten der wunderschönen Hügellandschaft!\n\nBuchbar als Einzelpers
 on\, Kleingruppe oder Familie. Sie haben die Möglichkeit an der öffentlich
 en Lamawanderung teilzunehmen.\n\nAnmeldungen erforderlich unter: info@lam
 ahof-tschaeppel.ch oder Tel. 062 962 00 54.\n\nKosten: pro Erwachsene Fr. 
 35.00 / pro Kind Fr. 15.00\n 
DTSTART:20161006T140000
DTEND:20161006T160000
LOCATION:Familie Walker
ORGANIZER:MAILTO:Pro Regio Huttwil <info@regio-huttwil.ch>
SUMMARY:Lamawanderung
END:VEVENT
END:VCALENDAR
