BEGIN:VCALENDAR
VERSION:2.0
PRODID:-//Pro Regio Huttwil//NONSGML kigkonsult.se iCalcreator 2.16.12//
METHOD:PUBLISH
X-MS-OLK-FORCEINSPECTOROPEN:TRUE
BEGIN:VEVENT
UID:20260422T123325CEST-9565o38Dsi@Pro Regio Huttwil
DTSTAMP:20260422T103325Z
DESCRIPTION:Chilbibetrieb beim Restaurant Rössli in Auswil
DTSTART:20160820T000000
DTEND:20160821T000000
LOCATION:Rest. Rössli
ORGANIZER:MAILTO:Pro Regio Huttwil <info@regio-huttwil.ch>
SUMMARY:Auswil-Chilbi
END:VEVENT
END:VCALENDAR
