BEGIN:VCALENDAR
VERSION:2.0
PRODID:-//Pro Regio Huttwil//NONSGML kigkonsult.se iCalcreator 2.16.12//
METHOD:PUBLISH
X-MS-OLK-FORCEINSPECTOROPEN:TRUE
BEGIN:VEVENT
UID:20260420T134518CEST-1445KtxAdD@Pro Regio Huttwil
DTSTAMP:20260420T114518Z
DESCRIPTION:Herzlich Willkommen zur Eröffnung der neuen MODE-SAISON!\nDer F
 rühling steht vor der Tür. An der Modenschau zeigen wir Ihnen trendige Out
 fits\, einzigartige Kombinationen\, sportive und bequeme Mode für 'Sie und
  Ihn'. Lassen Sie sich für einen Moment in die Modewelt entführen!\n\nWir 
 freuen uns auf Ihren Besuch.\n\nGratisparkplätze sind vorhanden. Reservati
 onen nehmen wir gerne entgegen.\n\nTel. 062 962 22 40\ninfo@niederhauser-m
 ode.ch\nwww.niederhauser-mode.ch
DTSTART:20160317T200000
DTEND:20160317T220000
LOCATION:Huttwil
ORGANIZER:MAILTO:Pro Regio Huttwil <info@regio-huttwil.ch>
SUMMARY:Modenschau für Sie und Ihn
END:VEVENT
END:VCALENDAR
